BEGIN:VCALENDAR
VERSION:2.0
PRODID:-//Dunklin County - ECPv6.15.20//NONSGML v1.0//EN
CALSCALE:GREGORIAN
METHOD:PUBLISH
X-WR-CALNAME:Dunklin County
X-ORIGINAL-URL:https://dunklincounty.gov
X-WR-CALDESC:Events for Dunklin County
REFRESH-INTERVAL;VALUE=DURATION:PT1H
X-Robots-Tag:noindex
X-PUBLISHED-TTL:PT1H
BEGIN:VTIMEZONE
TZID:America/Chicago
BEGIN:DAYLIGHT
TZOFFSETFROM:-0600
TZOFFSETTO:-0500
TZNAME:CDT
DTSTART:20240310T080000
END:DAYLIGHT
BEGIN:STANDARD
TZOFFSETFROM:-0500
TZOFFSETTO:-0600
TZNAME:CST
DTSTART:20241103T070000
END:STANDARD
BEGIN:DAYLIGHT
TZOFFSETFROM:-0600
TZOFFSETTO:-0500
TZNAME:CDT
DTSTART:20250309T080000
END:DAYLIGHT
BEGIN:STANDARD
TZOFFSETFROM:-0500
TZOFFSETTO:-0600
TZNAME:CST
DTSTART:20251102T070000
END:STANDARD
BEGIN:DAYLIGHT
TZOFFSETFROM:-0600
TZOFFSETTO:-0500
TZNAME:CDT
DTSTART:20260308T080000
END:DAYLIGHT
BEGIN:STANDARD
TZOFFSETFROM:-0500
TZOFFSETTO:-0600
TZNAME:CST
DTSTART:20261101T070000
END:STANDARD
BEGIN:DAYLIGHT
TZOFFSETFROM:-0600
TZOFFSETTO:-0500
TZNAME:CDT
DTSTART:20270314T080000
END:DAYLIGHT
BEGIN:STANDARD
TZOFFSETFROM:-0500
TZOFFSETTO:-0600
TZNAME:CST
DTSTART:20271107T070000
END:STANDARD
END:VTIMEZONE
BEGIN:VEVENT
DTSTART;VALUE=DATE:20260221
DTEND;VALUE=DATE:20260222
DTSTAMP:20260422T053522
CREATED:20251007T171041Z
LAST-MODIFIED:20251007T171443Z
UID:13046-1771632000-1771718399@dunklincounty.gov
SUMMARY:Military & Overseas absentees
DESCRIPTION:
URL:https://dunklincounty.gov/event/military-overseas-absentees/
CATEGORIES:April Election,Election
END:VEVENT
BEGIN:VEVENT
DTSTART;VALUE=DATE:20260210
DTEND;VALUE=DATE:20260211
DTSTAMP:20260422T053522
CREATED:20251007T170506Z
LAST-MODIFIED:20251007T170830Z
UID:5109-1770681600-1770767999@dunklincounty.gov
SUMMARY:Last day for candidate to withdraw with court order
DESCRIPTION:
URL:https://dunklincounty.gov/event/last-day-for-candidate-to-withdraw-with-court-order/
CATEGORIES:April Election,Election
END:VEVENT
BEGIN:VEVENT
DTSTART;VALUE=DATE:20260127
DTEND;VALUE=DATE:20260128
DTSTAMP:20260422T053522
CREATED:20251007T132321Z
LAST-MODIFIED:20251007T170701Z
UID:5069-1769472000-1769558399@dunklincounty.gov
SUMMARY:Final Certificate Date
DESCRIPTION:
URL:https://dunklincounty.gov/event/final-certificate-date-2/
CATEGORIES:April Election,Election
END:VEVENT
BEGIN:VEVENT
DTSTART;VALUE=DATE:20260120
DTEND;VALUE=DATE:20260121
DTSTAMP:20260422T053522
CREATED:20251007T165939Z
LAST-MODIFIED:20251007T170528Z
UID:5107-1768867200-1768953599@dunklincounty.gov
SUMMARY:Last day for candidate to withdraw without court order
DESCRIPTION:
URL:https://dunklincounty.gov/event/last-day-for-candidate-to-withdraw-without-court-order/
CATEGORIES:April Election,Election
END:VEVENT
BEGIN:VEVENT
DTSTART;VALUE=DATE:20251230
DTEND;VALUE=DATE:20251231
DTSTAMP:20260422T053522
CREATED:20241007T170016Z
LAST-MODIFIED:20251007T170156Z
UID:5050-1767052800-1767139199@dunklincounty.gov
SUMMARY:Last Day for Candidate filing
DESCRIPTION:
URL:https://dunklincounty.gov/event/last-day-for-candidate-filing-4/
CATEGORIES:April Election,Election
END:VEVENT
BEGIN:VEVENT
DTSTART;VALUE=DATE:20251209
DTEND;VALUE=DATE:20251210
DTSTAMP:20260422T053522
CREATED:20251007T165930Z
LAST-MODIFIED:20251007T170019Z
UID:5048-1765238400-1765324799@dunklincounty.gov
SUMMARY:First Day for Candidate Filing
DESCRIPTION:
URL:https://dunklincounty.gov/event/first-day-for-candidate-filing-2/
CATEGORIES:April Election,Election
END:VEVENT
END:VCALENDAR