BEGIN:VCALENDAR
VERSION:2.0
PRODID:-//Dunklin County - ECPv6.15.20//NONSGML v1.0//EN
CALSCALE:GREGORIAN
METHOD:PUBLISH
X-WR-CALNAME:Dunklin County
X-ORIGINAL-URL:https://dunklincounty.gov
X-WR-CALDESC:Events for Dunklin County
REFRESH-INTERVAL;VALUE=DURATION:PT1H
X-Robots-Tag:noindex
X-PUBLISHED-TTL:PT1H
BEGIN:VTIMEZONE
TZID:America/Chicago
BEGIN:DAYLIGHT
TZOFFSETFROM:-0600
TZOFFSETTO:-0500
TZNAME:CDT
DTSTART:20250309T080000
END:DAYLIGHT
BEGIN:STANDARD
TZOFFSETFROM:-0500
TZOFFSETTO:-0600
TZNAME:CST
DTSTART:20251102T070000
END:STANDARD
BEGIN:DAYLIGHT
TZOFFSETFROM:-0600
TZOFFSETTO:-0500
TZNAME:CDT
DTSTART:20260308T080000
END:DAYLIGHT
BEGIN:STANDARD
TZOFFSETFROM:-0500
TZOFFSETTO:-0600
TZNAME:CST
DTSTART:20261101T070000
END:STANDARD
BEGIN:DAYLIGHT
TZOFFSETFROM:-0600
TZOFFSETTO:-0500
TZNAME:CDT
DTSTART:20270314T080000
END:DAYLIGHT
BEGIN:STANDARD
TZOFFSETFROM:-0500
TZOFFSETTO:-0600
TZNAME:CST
DTSTART:20271107T070000
END:STANDARD
END:VTIMEZONE
BEGIN:VEVENT
DTSTART;VALUE=DATE:20260331
DTEND;VALUE=DATE:20260401
DTSTAMP:20260420T065704
CREATED:20260113T040618Z
LAST-MODIFIED:20260113T040618Z
UID:13182-1774915200-1775001599@dunklincounty.gov
SUMMARY:Last day for cadidate to withdraw without court order
DESCRIPTION:
URL:https://dunklincounty.gov/event/last-day-for-cadidate-to-withdraw-without-court-order/
CATEGORIES:April Election,Election
END:VEVENT
BEGIN:VEVENT
DTSTART;VALUE=DATE:20260403
DTEND;VALUE=DATE:20260404
DTSTAMP:20260420T065704
CREATED:20251007T172230Z
LAST-MODIFIED:20251007T180934Z
UID:13064-1775174400-1775260799@dunklincounty.gov
SUMMARY:Last Day for military or overseas to request an absentee ballot
DESCRIPTION:
URL:https://dunklincounty.gov/event/last-day-for-military-or-overseas-to-request-an-absentee-ballot-2/
CATEGORIES:April Election,Election
END:VEVENT
BEGIN:VEVENT
DTSTART;TZID=America/Chicago:20260404T080000
DTEND;TZID=America/Chicago:20260404T120000
DTSTAMP:20260420T065704
CREATED:20251007T172114Z
LAST-MODIFIED:20251007T184413Z
UID:13062-1775289600-1775304000@dunklincounty.gov
SUMMARY:Office open for absentees (8am-12pm)
DESCRIPTION:
URL:https://dunklincounty.gov/event/office-open-for-absentees/
CATEGORIES:April Election,Election
END:VEVENT
BEGIN:VEVENT
DTSTART;VALUE=DATE:20260406
DTEND;VALUE=DATE:20260407
DTSTAMP:20260420T065704
CREATED:20251007T185209Z
LAST-MODIFIED:20251007T185209Z
UID:13068-1775433600-1775519999@dunklincounty.gov
SUMMARY:Last Day to vote in person absentee
DESCRIPTION:
URL:https://dunklincounty.gov/event/last-day-to-vote-in-person-absentee/
CATEGORIES:April Election,Election
END:VEVENT
BEGIN:VEVENT
DTSTART;VALUE=DATE:20260407
DTEND;VALUE=DATE:20260408
DTSTAMP:20260420T065704
CREATED:20251007T185254Z
LAST-MODIFIED:20251007T185254Z
UID:13070-1775520000-1775606399@dunklincounty.gov
SUMMARY:Election Day (Polls open 6am to 7pm)
DESCRIPTION:
URL:https://dunklincounty.gov/event/election-day-polls-open-6am-to-7pm/
CATEGORIES:April Election,Election
END:VEVENT
BEGIN:VEVENT
DTSTART;VALUE=DATE:20260526
DTEND;VALUE=DATE:20260527
DTSTAMP:20260420T065704
CREATED:20260113T040619Z
LAST-MODIFIED:20260113T041458Z
UID:13183-1779753600-1779839999@dunklincounty.gov
SUMMARY:Final Certification date
DESCRIPTION:
URL:https://dunklincounty.gov/event/final-certification-date/
CATEGORIES:April Election,Election
END:VEVENT
BEGIN:VEVENT
DTSTART;VALUE=DATE:20260609
DTEND;VALUE=DATE:20260610
DTSTAMP:20260420T065704
CREATED:20260113T040619Z
LAST-MODIFIED:20260113T041617Z
UID:13184-1780963200-1781049599@dunklincounty.gov
SUMMARY:Last day for candidate to withdraw with court order
DESCRIPTION:
URL:https://dunklincounty.gov/event/last-day-for-candidate-to-withdraw-with-court-order-2/
CATEGORIES:August Election,Election
END:VEVENT
BEGIN:VEVENT
DTSTART;VALUE=DATE:20260620
DTEND;VALUE=DATE:20260621
DTSTAMP:20260420T065704
CREATED:20260113T040619Z
LAST-MODIFIED:20260113T041633Z
UID:13185-1781913600-1781999999@dunklincounty.gov
SUMMARY:First day for Military & Overseas Absentees
DESCRIPTION:
URL:https://dunklincounty.gov/event/first-day-for-military-overseas-absentees/
CATEGORIES:August Election,Election
END:VEVENT
BEGIN:VEVENT
DTSTART;VALUE=DATE:20260623
DTEND;VALUE=DATE:20260624
DTSTAMP:20260420T065704
CREATED:20260113T040623Z
LAST-MODIFIED:20260113T041713Z
UID:13186-1782172800-1782259199@dunklincounty.gov
SUMMARY:First day for regular absentees
DESCRIPTION:
URL:https://dunklincounty.gov/event/first-day-for-regular-absentees-2/
CATEGORIES:August Election,Election
END:VEVENT
BEGIN:VEVENT
DTSTART;VALUE=DATE:20260708
DTEND;VALUE=DATE:20260709
DTSTAMP:20260420T065704
CREATED:20260113T040623Z
LAST-MODIFIED:20260113T041733Z
UID:13187-1783468800-1783555199@dunklincounty.gov
SUMMARY:Last day to register to vote
DESCRIPTION:
URL:https://dunklincounty.gov/event/last-day-to-register-to-vote-2/
CATEGORIES:August Election,Election
END:VEVENT
BEGIN:VEVENT
DTSTART;VALUE=DATE:20260721
DTEND;VALUE=DATE:20260722
DTSTAMP:20260420T065704
CREATED:20260113T040624Z
LAST-MODIFIED:20260113T041802Z
UID:13188-1784592000-1784678399@dunklincounty.gov
SUMMARY:First day for no excuse absentee voting
DESCRIPTION:
URL:https://dunklincounty.gov/event/first-day-for-no-excuse-absentee-voting-2/
CATEGORIES:August Election,Election
END:VEVENT
BEGIN:VEVENT
DTSTART;VALUE=DATE:20260722
DTEND;VALUE=DATE:20260723
DTSTAMP:20260420T065704
CREATED:20260113T040624Z
LAST-MODIFIED:20260113T041822Z
UID:13189-1784678400-1784764799@dunklincounty.gov
SUMMARY:Last day for requesting a absentee ballot by mail
DESCRIPTION:
URL:https://dunklincounty.gov/event/last-day-for-requesting-a-absentee-ballot-by-mail/
CATEGORIES:August Election,Election
END:VEVENT
BEGIN:VEVENT
DTSTART;VALUE=DATE:20260724
DTEND;VALUE=DATE:20260725
DTSTAMP:20260420T065704
CREATED:20260113T040624Z
LAST-MODIFIED:20260113T041847Z
UID:13190-1784851200-1784937599@dunklincounty.gov
SUMMARY:Last day for Write-In candidates to file
DESCRIPTION:
URL:https://dunklincounty.gov/event/last-day-for-write-in-candidates-to-file-2/
CATEGORIES:August Election,Election
END:VEVENT
BEGIN:VEVENT
DTSTART;VALUE=DATE:20260731
DTEND;VALUE=DATE:20260801
DTSTAMP:20260420T065704
CREATED:20260113T040638Z
LAST-MODIFIED:20260113T041910Z
UID:13191-1785456000-1785542399@dunklincounty.gov
SUMMARY:Last day for military & overseas to request a absentee ballot
DESCRIPTION:
URL:https://dunklincounty.gov/event/last-day-for-military-overseas-to-request-a-absentee-ballot/
CATEGORIES:August Election,Election
END:VEVENT
BEGIN:VEVENT
DTSTART;VALUE=DATE:20260801
DTEND;VALUE=DATE:20260802
DTSTAMP:20260420T065704
CREATED:20260113T040638Z
LAST-MODIFIED:20260113T041924Z
UID:13192-1785542400-1785628799@dunklincounty.gov
SUMMARY:Office open for absentees (8am-12pm)
DESCRIPTION:
URL:https://dunklincounty.gov/event/office-open-for-absentees-8am-12pm/
CATEGORIES:August Election,Election
END:VEVENT
BEGIN:VEVENT
DTSTART;VALUE=DATE:20260803
DTEND;VALUE=DATE:20260804
DTSTAMP:20260420T065704
CREATED:20260113T040639Z
LAST-MODIFIED:20260113T041959Z
UID:13193-1785715200-1785801599@dunklincounty.gov
SUMMARY:Last day to vote absentee in person
DESCRIPTION:
URL:https://dunklincounty.gov/event/last-day-to-vote-absentee-in-person/
CATEGORIES:August Election,Election
END:VEVENT
BEGIN:VEVENT
DTSTART;VALUE=DATE:20260804
DTEND;VALUE=DATE:20260805
DTSTAMP:20260420T065704
CREATED:20260113T040639Z
LAST-MODIFIED:20260113T042014Z
UID:13194-1785801600-1785887999@dunklincounty.gov
SUMMARY:Election Day (Polls open 6am to 7pm)
DESCRIPTION:
URL:https://dunklincounty.gov/event/election-day-polls-open-6am-to-7pm-2/
CATEGORIES:August Election,Election
END:VEVENT
END:VCALENDAR